BEGIN:VCALENDAR
VERSION:2.0
PRODID:-//Syskom - ECPv6.15.20//NONSGML v1.0//EN
CALSCALE:GREGORIAN
METHOD:PUBLISH
X-WR-CALNAME:Syskom
X-ORIGINAL-URL:https://www.syskom.ch
X-WR-CALDESC:Veranstaltungen für Syskom
REFRESH-INTERVAL;VALUE=DURATION:PT1H
X-Robots-Tag:noindex
X-PUBLISHED-TTL:PT1H
BEGIN:VTIMEZONE
TZID:Europe/Zurich
BEGIN:DAYLIGHT
TZOFFSETFROM:+0100
TZOFFSETTO:+0200
TZNAME:CEST
DTSTART:20250330T010000
END:DAYLIGHT
BEGIN:STANDARD
TZOFFSETFROM:+0200
TZOFFSETTO:+0100
TZNAME:CET
DTSTART:20251026T010000
END:STANDARD
BEGIN:DAYLIGHT
TZOFFSETFROM:+0100
TZOFFSETTO:+0200
TZNAME:CEST
DTSTART:20260329T010000
END:DAYLIGHT
BEGIN:STANDARD
TZOFFSETFROM:+0200
TZOFFSETTO:+0100
TZNAME:CET
DTSTART:20261025T010000
END:STANDARD
BEGIN:DAYLIGHT
TZOFFSETFROM:+0100
TZOFFSETTO:+0200
TZNAME:CEST
DTSTART:20270328T010000
END:DAYLIGHT
BEGIN:STANDARD
TZOFFSETFROM:+0200
TZOFFSETTO:+0100
TZNAME:CET
DTSTART:20271031T010000
END:STANDARD
END:VTIMEZONE
BEGIN:VEVENT
DTSTART;TZID=Europe/Zurich:20260508T090000
DTEND;TZID=Europe/Zurich:20260508T170000
DTSTAMP:20260420T061028
CREATED:20250926T174831Z
LAST-MODIFIED:20250926T174831Z
UID:2779-1778230800-1778259600@www.syskom.ch
SUMMARY:Persönlichkeiten die stören
DESCRIPTION:Umgang mit schwierigen Menschen in der therapeutischen Beziehung\nEs gibt Menschen\, die durch ihre Persönlichkeit auch für den Therapeuten eine Herausforderung sein können. Therapie baut auf Beziehung auf und genau diese Beziehungsfähigkeit weist bei diesen Menschen Defizite auf. Sie haben Verhaltensweisen\, die einen guten Umgang mit ihnen erschweren.\nIn diesem Seminar schauen wir uns die Persönlichkeitsstörungen an und wie man trotzdem eine gute therapeutischen Beziehung aufrechterhalten kann. \nLerninhalt \n\nDie systemische Sicht auf psychische Störungen\nPersönlichkeitsstörungen im Überblick aus systemischer Sicht\nBeziehungsmuster und soziale Hintergründe der jeweiligen Störung\nHilfen für einen guten Umgang im Rahmen der Therapie und der therapeutischen Beziehung\n\nWeitere Infos und Anmeldung
URL:https://www.syskom.ch/event/persoenlichkeiten-die-stoeren/
LOCATION:EGK-Agentur Bellinzona\, Piazza del Sole 7\, Bellinzona\, 6500\, Switzerland
CATEGORIES:Seminar
ORGANIZER;CN="Stiftung SNE":MAILTO:info@fondation-sne.ch
END:VEVENT
BEGIN:VEVENT
DTSTART;TZID=Europe/Zurich:20260827T080000
DTEND;TZID=Europe/Zurich:20260827T170000
DTSTAMP:20260420T061028
CREATED:20250926T175225Z
LAST-MODIFIED:20250926T175225Z
UID:2783-1787817600-1787850000@www.syskom.ch
SUMMARY:Heilen im guten Geiste – Heilen auf allen Ebenen
DESCRIPTION:Heilungsprozesse im besten Sinne begleiten\nMit welchem Geist wir in der Therapie und in Bezug auf Krankheit und Gesundheit unterwegs sind\, bestimmt über unsere Möglichkeiten und Grenzen Heilung zu ermöglichen und zu fördern. Dieser Geist kann sich von Therapeut zu Patient und von Mensch zu Mensch unterscheiden. Auch das Gesundheitssystem vertritt einen Geist in der Therapie und Methodik\, der sich von unserem persönlichen Wissen und Empfinden unterscheiden kann.\nWie können wir damit umgehen\, damit wir für den Patienten und mit ihm zusammen im besten Sinne und Geiste behandeln und Heilungsprozesse ermöglichen und begleiten? \nLerninhalt \n\nMenschenbilder im Einklang und Widerspruch\nDas Prinzip der Ursächlichkeit auf allen Ebenen verstehen und der fördernde Umgang damit\nUmgang mit Glaubensmuster und Denkverboten\nDas Potential der Möglichkeiten und Grenzen anhand des Menschenbildes\nUmgang mit Selbstverantwortung\, Selbstbestimmung und Selbstwirksamkeit\n\nWeitere Infos und Anmeldung
URL:https://www.syskom.ch/event/heilen-im-guten-geiste-heilen-auf-allen-ebenen/
LOCATION:Gleisarena FFHS Campus\, Zollstrasse 17\, Zürich\, 8005\, Switzerland
CATEGORIES:Seminar
ORGANIZER;CN="Stiftung SNE":MAILTO:info@fondation-sne.ch
END:VEVENT
BEGIN:VEVENT
DTSTART;TZID=Europe/Zurich:20261019T090000
DTEND;TZID=Europe/Zurich:20261019T170000
DTSTAMP:20260420T061028
CREATED:20250926T175709Z
LAST-MODIFIED:20250926T175709Z
UID:2788-1792400400-1792429200@www.syskom.ch
SUMMARY:Persönlichkeiten die stören
DESCRIPTION:Umgang mit schwierigen Menschen in der therapeutischen Beziehung\nEs gibt Menschen\, die durch ihre Persönlichkeit auch für den Therapeuten eine Herausforderung sein können. Therapie baut auf Beziehung auf und genau diese Beziehungsfähigkeit weist bei diesen Menschen Defizite auf. Sie haben Verhaltensweisen\, die einen guten Umgang mit ihnen erschweren.\nIn diesem Seminar schauen wir uns die Persönlichkeitsstörungen an und wie man trotzdem eine gute therapeutischen Beziehung aufrechterhalten kann. \nLerninhalt \n\nDie systemische Sicht auf psychische Störungen.\nPersönlichkeitsstörungen im Überblick aus systemischer Sicht\nBeziehungsmuster und soziale Hintergründe der jeweiligen Störung\nHilfen für einen guten Umgang im Rahmen der Therapie und der therapeutischen\nBeziehung.\n\nWeitere Infos und Anmeldung
URL:https://www.syskom.ch/event/persoenlichkeiten-die-stoeren-2/
LOCATION:Hotel Olten\, Bahnhofstrasse 5\, Olten\, 4601\, Schweiz
CATEGORIES:Seminar
ORGANIZER;CN="Stiftung SNE":MAILTO:info@fondation-sne.ch
END:VEVENT
END:VCALENDAR