BEGIN:VCALENDAR
VERSION:2.0
PRODID:-//Syskom - ECPv6.15.20//NONSGML v1.0//EN
CALSCALE:GREGORIAN
METHOD:PUBLISH
X-ORIGINAL-URL:https://www.syskom.ch
X-WR-CALDESC:Veranstaltungen für Syskom
REFRESH-INTERVAL;VALUE=DURATION:PT1H
X-Robots-Tag:noindex
X-PUBLISHED-TTL:PT1H
BEGIN:VTIMEZONE
TZID:Europe/Zurich
BEGIN:DAYLIGHT
TZOFFSETFROM:+0100
TZOFFSETTO:+0200
TZNAME:CEST
DTSTART:20250330T010000
END:DAYLIGHT
BEGIN:STANDARD
TZOFFSETFROM:+0200
TZOFFSETTO:+0100
TZNAME:CET
DTSTART:20251026T010000
END:STANDARD
BEGIN:DAYLIGHT
TZOFFSETFROM:+0100
TZOFFSETTO:+0200
TZNAME:CEST
DTSTART:20260329T010000
END:DAYLIGHT
BEGIN:STANDARD
TZOFFSETFROM:+0200
TZOFFSETTO:+0100
TZNAME:CET
DTSTART:20261025T010000
END:STANDARD
BEGIN:DAYLIGHT
TZOFFSETFROM:+0100
TZOFFSETTO:+0200
TZNAME:CEST
DTSTART:20270328T010000
END:DAYLIGHT
BEGIN:STANDARD
TZOFFSETFROM:+0200
TZOFFSETTO:+0100
TZNAME:CET
DTSTART:20271031T010000
END:STANDARD
END:VTIMEZONE
BEGIN:VEVENT
DTSTART;TZID=Europe/Zurich:20260508T090000
DTEND;TZID=Europe/Zurich:20260508T170000
DTSTAMP:20260422T121548
CREATED:20250926T174831Z
LAST-MODIFIED:20250926T174831Z
UID:2779-1778230800-1778259600@www.syskom.ch
SUMMARY:Persönlichkeiten die stören
DESCRIPTION:Umgang mit schwierigen Menschen in der therapeutischen Beziehung\nEs gibt Menschen\, die durch ihre Persönlichkeit auch für den Therapeuten eine Herausforderung sein können. Therapie baut auf Beziehung auf und genau diese Beziehungsfähigkeit weist bei diesen Menschen Defizite auf. Sie haben Verhaltensweisen\, die einen guten Umgang mit ihnen erschweren.\nIn diesem Seminar schauen wir uns die Persönlichkeitsstörungen an und wie man trotzdem eine gute therapeutischen Beziehung aufrechterhalten kann. \nLerninhalt \n\nDie systemische Sicht auf psychische Störungen\nPersönlichkeitsstörungen im Überblick aus systemischer Sicht\nBeziehungsmuster und soziale Hintergründe der jeweiligen Störung\nHilfen für einen guten Umgang im Rahmen der Therapie und der therapeutischen Beziehung\n\nWeitere Infos und Anmeldung
URL:https://www.syskom.ch/event/persoenlichkeiten-die-stoeren/
LOCATION:EGK-Agentur Bellinzona\, Piazza del Sole 7\, Bellinzona\, 6500\, Switzerland
CATEGORIES:Seminar
ORGANIZER;CN="Stiftung SNE":MAILTO:info@fondation-sne.ch
END:VEVENT
END:VCALENDAR