BEGIN:VCALENDAR
VERSION:2.0
PRODID:-//Syskom - ECPv6.15.20//NONSGML v1.0//EN
CALSCALE:GREGORIAN
METHOD:PUBLISH
X-WR-CALNAME:Syskom
X-ORIGINAL-URL:https://www.syskom.ch
X-WR-CALDESC:Veranstaltungen für Syskom
REFRESH-INTERVAL;VALUE=DURATION:PT1H
X-Robots-Tag:noindex
X-PUBLISHED-TTL:PT1H
BEGIN:VTIMEZONE
TZID:Europe/Zurich
BEGIN:DAYLIGHT
TZOFFSETFROM:+0100
TZOFFSETTO:+0200
TZNAME:CEST
DTSTART:20250330T010000
END:DAYLIGHT
BEGIN:STANDARD
TZOFFSETFROM:+0200
TZOFFSETTO:+0100
TZNAME:CET
DTSTART:20251026T010000
END:STANDARD
BEGIN:DAYLIGHT
TZOFFSETFROM:+0100
TZOFFSETTO:+0200
TZNAME:CEST
DTSTART:20260329T010000
END:DAYLIGHT
BEGIN:STANDARD
TZOFFSETFROM:+0200
TZOFFSETTO:+0100
TZNAME:CET
DTSTART:20261025T010000
END:STANDARD
BEGIN:DAYLIGHT
TZOFFSETFROM:+0100
TZOFFSETTO:+0200
TZNAME:CEST
DTSTART:20270328T010000
END:DAYLIGHT
BEGIN:STANDARD
TZOFFSETFROM:+0200
TZOFFSETTO:+0100
TZNAME:CET
DTSTART:20271031T010000
END:STANDARD
END:VTIMEZONE
BEGIN:VEVENT
DTSTART;TZID=Europe/Zurich:20260326T090000
DTEND;TZID=Europe/Zurich:20260326T170000
DTSTAMP:20260422T121737
CREATED:20250926T174350Z
LAST-MODIFIED:20260118T144746Z
UID:2775-1774515600-1774544400@www.syskom.ch
SUMMARY:Niemand ist alleine krank (ausgebucht)
DESCRIPTION:Krankheit und Heilung im Familiensystem\nDer Mensch ist ein System von physischem\, emotionalem und geistigem Körper. Gleichzeitig ist er Teil eines Familiensystems\, einer Gesellschaft\, aber auch einer irdischen Umwelt\, eines Glaubens- und Weltbildes\, in dem er aufwächst und das ihn prägt. Hier kann sehr viel positive Wechselwirkung und gegenseitige Befruchtung entstehen\, aber auch sehr viel Verwirrung\, die zu Krankheit führen kann. Im unmittelbaren Familiensystem ist der Einfluss und die gegenseitige Betroffenheit von der Entwicklung eines Menschen am stärksten. Krankheit ist das Symptom eines Systems\, das sich disharmonisch entwickelt. Dies betrifft den/die Körper des Kranken selbst\, steht aber auch in Wechselwirkung mit seinem unmittelbaren Umfeld. Beides muss sich wieder neu aneinander anpassen. Beides hat einen Einfluss sowohl auf den Krankheits- als auch auf den Heilungsprozess. Deswegen ist es wichtig\, alle Betroffenen mit einzubeziehen\, damit alle den Prozess von der Krankheit zur Heilung unterstützen und selber durchlaufen. Dies betrifft sowohl psychische\, als auch physische Störungen. Psychische Störungen\, schwere Diagnosen und chronische Krankheiten fordern alle in einem Familiensystem und im persönlichen Umfeld besonders stark. \nLerninhalt \n\nGrundwissen über Systeme: Definition\, Kybernetik II Ordnung\, Systemische Prämissen\nKrankheit als Wirklichkeitskonstruktion\nFragetechniken\, Hypothesen\, Perspektivenwechsel – Ablauf und Gestaltung von Veränderungsprozessen\n\nWeitere Infos und Anmeldung
URL:https://www.syskom.ch/event/niemand-ist-alleine-krank/
LOCATION:Hotel Sedartis\, Bahnhofstrasse 16\, Thalwil\, 8800\, Switzerland
CATEGORIES:Seminar
ORGANIZER;CN="Stiftung SNE":MAILTO:info@fondation-sne.ch
END:VEVENT
END:VCALENDAR