BEGIN:VCALENDAR
VERSION:2.0
PRODID:-//Syskom - ECPv6.15.20//NONSGML v1.0//EN
CALSCALE:GREGORIAN
METHOD:PUBLISH
X-WR-CALNAME:Syskom
X-ORIGINAL-URL:https://www.syskom.ch
X-WR-CALDESC:Veranstaltungen für Syskom
REFRESH-INTERVAL;VALUE=DURATION:PT1H
X-Robots-Tag:noindex
X-PUBLISHED-TTL:PT1H
BEGIN:VTIMEZONE
TZID:Europe/Zurich
BEGIN:DAYLIGHT
TZOFFSETFROM:+0100
TZOFFSETTO:+0200
TZNAME:CEST
DTSTART:20240331T010000
END:DAYLIGHT
BEGIN:STANDARD
TZOFFSETFROM:+0200
TZOFFSETTO:+0100
TZNAME:CET
DTSTART:20241027T010000
END:STANDARD
BEGIN:DAYLIGHT
TZOFFSETFROM:+0100
TZOFFSETTO:+0200
TZNAME:CEST
DTSTART:20250330T010000
END:DAYLIGHT
BEGIN:STANDARD
TZOFFSETFROM:+0200
TZOFFSETTO:+0100
TZNAME:CET
DTSTART:20251026T010000
END:STANDARD
BEGIN:DAYLIGHT
TZOFFSETFROM:+0100
TZOFFSETTO:+0200
TZNAME:CEST
DTSTART:20260329T010000
END:DAYLIGHT
BEGIN:STANDARD
TZOFFSETFROM:+0200
TZOFFSETTO:+0100
TZNAME:CET
DTSTART:20261025T010000
END:STANDARD
END:VTIMEZONE
BEGIN:VEVENT
DTSTART;TZID=Europe/Zurich:20251219T170000
DTEND;TZID=Europe/Zurich:20251219T190000
DTSTAMP:20260424T164637
CREATED:20240524T174200Z
LAST-MODIFIED:20250830T111934Z
UID:2389-1766163600-1766170800@www.syskom.ch
SUMMARY:Heilsame Begegnung
DESCRIPTION:Ich lade Dich zu einer heilsamen Begegnung mit Dir selbst in dieser Zeit der Besinnung ein.\nDie Begegnung findet in einer kleinen Gruppe in einem geschützten Rahmen statt.\nBringe gerne Deine Yogamatte und Dein Meditationskissen mit. Sodass Du es Dir rundum bequem einrichten kannst. \nAnmeldung bitte bis zum 17.12.2025 an sieglinde@syskom.ch.\nDie Anzahl der Plätze ist begrenzt.
URL:https://www.syskom.ch/event/heilsame-begegnung/
LOCATION:Systemische Beratung – Sieglinde Kliemen\, Aarbergergasse 30\, Bern\, 3011\, Schweiz
CATEGORIES:Seminar
END:VEVENT
END:VCALENDAR