BEGIN:VCALENDAR
VERSION:2.0
PRODID:-//Syskom - ECPv6.15.20//NONSGML v1.0//EN
CALSCALE:GREGORIAN
METHOD:PUBLISH
X-WR-CALNAME:Syskom
X-ORIGINAL-URL:https://www.syskom.ch
X-WR-CALDESC:Veranstaltungen für Syskom
REFRESH-INTERVAL;VALUE=DURATION:PT1H
X-Robots-Tag:noindex
X-PUBLISHED-TTL:PT1H
BEGIN:VTIMEZONE
TZID:Europe/Zurich
BEGIN:DAYLIGHT
TZOFFSETFROM:+0100
TZOFFSETTO:+0200
TZNAME:CEST
DTSTART:20240331T010000
END:DAYLIGHT
BEGIN:STANDARD
TZOFFSETFROM:+0200
TZOFFSETTO:+0100
TZNAME:CET
DTSTART:20241027T010000
END:STANDARD
BEGIN:DAYLIGHT
TZOFFSETFROM:+0100
TZOFFSETTO:+0200
TZNAME:CEST
DTSTART:20250330T010000
END:DAYLIGHT
BEGIN:STANDARD
TZOFFSETFROM:+0200
TZOFFSETTO:+0100
TZNAME:CET
DTSTART:20251026T010000
END:STANDARD
BEGIN:DAYLIGHT
TZOFFSETFROM:+0100
TZOFFSETTO:+0200
TZNAME:CEST
DTSTART:20260329T010000
END:DAYLIGHT
BEGIN:STANDARD
TZOFFSETFROM:+0200
TZOFFSETTO:+0100
TZNAME:CET
DTSTART:20261025T010000
END:STANDARD
END:VTIMEZONE
BEGIN:VEVENT
DTSTART;TZID=Europe/Zurich:20251027T183000
DTEND;TZID=Europe/Zurich:20251027T203000
DTSTAMP:20260424T181456
CREATED:20250830T095302Z
LAST-MODIFIED:20250830T095313Z
UID:2770-1761589800-1761597000@www.syskom.ch
SUMMARY:Impuslabend - Mein Selbstwert und Ich
DESCRIPTION:Unser Selbstwertgefühl bestimmt unser Verhalten uns und anderen gegenüber und damit unser Leben. \nAn diesem Impulsabend machen wir einen mentalen Spaziergang mit unserem Selbstwert. Wir schauen nach\, wie es um ihn steht\, was ihn schwächt und mit welchen Strategien wir ihn stärken. \nZusammen in der Gruppe erarbeiten wir Lösungen\, wie wir unseren Selbstwert pflegen und können\, damit wir in ihm einen Verbündeten an unserer Seite haben. \nZur Anmeldung
URL:https://www.syskom.ch/event/impuslabend-mein-selbstwert-und-ich/
LOCATION:Campus InsNeuland\, Dorfstrasse 20c\, Ins BE\, 3232\, Schweiz
CATEGORIES:Vortrag
END:VEVENT
END:VCALENDAR