BEGIN:VCALENDAR
VERSION:2.0
PRODID:-//Syskom - ECPv6.15.20//NONSGML v1.0//EN
CALSCALE:GREGORIAN
METHOD:PUBLISH
X-ORIGINAL-URL:https://www.syskom.ch
X-WR-CALDESC:Veranstaltungen für Syskom
REFRESH-INTERVAL;VALUE=DURATION:PT1H
X-Robots-Tag:noindex
X-PUBLISHED-TTL:PT1H
BEGIN:VTIMEZONE
TZID:Europe/Zurich
BEGIN:DAYLIGHT
TZOFFSETFROM:+0100
TZOFFSETTO:+0200
TZNAME:CEST
DTSTART:20240331T010000
END:DAYLIGHT
BEGIN:STANDARD
TZOFFSETFROM:+0200
TZOFFSETTO:+0100
TZNAME:CET
DTSTART:20241027T010000
END:STANDARD
BEGIN:DAYLIGHT
TZOFFSETFROM:+0100
TZOFFSETTO:+0200
TZNAME:CEST
DTSTART:20250330T010000
END:DAYLIGHT
BEGIN:STANDARD
TZOFFSETFROM:+0200
TZOFFSETTO:+0100
TZNAME:CET
DTSTART:20251026T010000
END:STANDARD
BEGIN:DAYLIGHT
TZOFFSETFROM:+0100
TZOFFSETTO:+0200
TZNAME:CEST
DTSTART:20260329T010000
END:DAYLIGHT
BEGIN:STANDARD
TZOFFSETFROM:+0200
TZOFFSETTO:+0100
TZNAME:CET
DTSTART:20261025T010000
END:STANDARD
END:VTIMEZONE
BEGIN:VEVENT
DTSTART;TZID=Europe/Zurich:20250522T183000
DTEND;TZID=Europe/Zurich:20250522T210000
DTSTAMP:20260425T025152
CREATED:20250326T064026Z
LAST-MODIFIED:20250326T094245Z
UID:2548-1747938600-1747947600@www.syskom.ch
SUMMARY:Buch Vernissage
DESCRIPTION:Bindung und Beziehung – Grundlagen für eine gesunde Entwicklung\nIch lade Dich herzlich ein\, mit mir und Freunden mein neues Buch zu feiern. \nIch freue mich auf zahlreiche Teilnehmer!\nBring bitte all Deine Freude (Frau/Mann) mit\, die sich für eine gesunde Entwicklung von Natur aus interessieren. \nIch werde über den Inhalt und die Entstehung des Buches erzählen.\nDu hast die Chance\, ein Buch mit einer persönlichen Widmung zu erhalten. \nUnd ….Es gibt noch eine Überraschungen! \nBeim Apéro hast Du die Möglichkeit zum Austausch. \nFlyer_Vernissage
URL:https://www.syskom.ch/event/buch-vernissage/
LOCATION:Atelier 14b\, Falkenplatz 14\, Bern\, 3012\, Switzerland
CATEGORIES:Vortrag
ORGANIZER;CN="SYSKOM":MAILTO:sieglinde@syskom.ch
END:VEVENT
END:VCALENDAR